BEGIN:VCALENDAR
VERSION:2.0
PRODID:-//Little Village Chamber of Commerce - ECPv6.15.17//NONSGML v1.0//EN
CALSCALE:GREGORIAN
METHOD:PUBLISH
X-WR-CALNAME:Little Village Chamber of Commerce
X-ORIGINAL-URL:https://littlevillagechamber.org/es
X-WR-CALDESC:Eventos para Little Village Chamber of Commerce
REFRESH-INTERVAL;VALUE=DURATION:PT1H
X-Robots-Tag:noindex
X-PUBLISHED-TTL:PT1H
BEGIN:VTIMEZONE
TZID:America/Chicago
BEGIN:DAYLIGHT
TZOFFSETFROM:-0600
TZOFFSETTO:-0500
TZNAME:CDT
DTSTART:20240310T080000
END:DAYLIGHT
BEGIN:STANDARD
TZOFFSETFROM:-0500
TZOFFSETTO:-0600
TZNAME:CST
DTSTART:20241103T070000
END:STANDARD
BEGIN:DAYLIGHT
TZOFFSETFROM:-0600
TZOFFSETTO:-0500
TZNAME:CDT
DTSTART:20250309T080000
END:DAYLIGHT
BEGIN:STANDARD
TZOFFSETFROM:-0500
TZOFFSETTO:-0600
TZNAME:CST
DTSTART:20251102T070000
END:STANDARD
BEGIN:DAYLIGHT
TZOFFSETFROM:-0600
TZOFFSETTO:-0500
TZNAME:CDT
DTSTART:20260308T080000
END:DAYLIGHT
BEGIN:STANDARD
TZOFFSETFROM:-0500
TZOFFSETTO:-0600
TZNAME:CST
DTSTART:20261101T070000
END:STANDARD
END:VTIMEZONE
BEGIN:VEVENT
DTSTART;TZID=America/Chicago:20250121T090000
DTEND;TZID=America/Chicago:20250121T100000
DTSTAMP:20260420T223509
CREATED:20250107T170504Z
LAST-MODIFIED:20250121T165902Z
UID:10000217-1737450000-1737453600@littlevillagechamber.org
SUMMARY:Jan. SSA #25 Meeting 2025
DESCRIPTION:
URL:https://littlevillagechamber.org/es/calendar/jan-ssa-25-meeting-2025/
LOCATION:Little Village Chamber of Commerce Office\, 3610 W. 26th Street\, 2nd Floor\, Chicago\, IL\, 60623\, United States
CATEGORIES:SSA #25 Meeting 2025
ORGANIZER;CN="Blanca Soto":MAILTO:blanca@litllevillagechamber.org
END:VEVENT
BEGIN:VEVENT
DTSTART;TZID=America/Chicago:20250127T090000
DTEND;TZID=America/Chicago:20250127T100000
DTSTAMP:20260420T223509
CREATED:20250121T170153Z
LAST-MODIFIED:20250304T163651Z
UID:10000230-1737968400-1737972000@littlevillagechamber.org
SUMMARY:Jan SSA #25 Special Commission Meeting
DESCRIPTION:
URL:https://littlevillagechamber.org/es/calendar/jan-ssa-25-special-commission-meeting/
LOCATION:Little Village Chamber of Commerce Office\, 3610 W. 26th Street\, 2nd Floor\, Chicago\, IL\, 60623\, United States
CATEGORIES:SSA #25 Meeting 2025
ORGANIZER;CN="Blanca Soto":MAILTO:blanca@litllevillagechamber.org
END:VEVENT
END:VCALENDAR