BEGIN:VCALENDAR
VERSION:2.0
PRODID:-//Little Village Chamber of Commerce - ECPv6.15.17//NONSGML v1.0//EN
CALSCALE:GREGORIAN
METHOD:PUBLISH
X-WR-CALNAME:Little Village Chamber of Commerce
X-ORIGINAL-URL:https://littlevillagechamber.org/es
X-WR-CALDESC:Eventos para Little Village Chamber of Commerce
REFRESH-INTERVAL;VALUE=DURATION:PT1H
X-Robots-Tag:noindex
X-PUBLISHED-TTL:PT1H
BEGIN:VTIMEZONE
TZID:America/Chicago
BEGIN:DAYLIGHT
TZOFFSETFROM:-0600
TZOFFSETTO:-0500
TZNAME:CDT
DTSTART:20230312T080000
END:DAYLIGHT
BEGIN:STANDARD
TZOFFSETFROM:-0500
TZOFFSETTO:-0600
TZNAME:CST
DTSTART:20231105T070000
END:STANDARD
BEGIN:DAYLIGHT
TZOFFSETFROM:-0600
TZOFFSETTO:-0500
TZNAME:CDT
DTSTART:20240310T080000
END:DAYLIGHT
BEGIN:STANDARD
TZOFFSETFROM:-0500
TZOFFSETTO:-0600
TZNAME:CST
DTSTART:20241103T070000
END:STANDARD
BEGIN:DAYLIGHT
TZOFFSETFROM:-0600
TZOFFSETTO:-0500
TZNAME:CDT
DTSTART:20250309T080000
END:DAYLIGHT
BEGIN:STANDARD
TZOFFSETFROM:-0500
TZOFFSETTO:-0600
TZNAME:CST
DTSTART:20251102T070000
END:STANDARD
END:VTIMEZONE
BEGIN:VEVENT
DTSTART;TZID=America/Chicago:20240813T170000
DTEND;TZID=America/Chicago:20240813T190000
DTSTAMP:20260421T130703
CREATED:20240325T163453Z
LAST-MODIFIED:20240813T220241Z
UID:10000196-1723568400-1723575600@littlevillagechamber.org
SUMMARY:LVCC Membership Meeting - August
DESCRIPTION:Join us for our August Membership Open House \nIf you are curious about joining the Little Village Chamber of Commerce join us for an informative Open House to learn more about our membership benefits and the many events we offer.\nMeet our staff\, other members / partners and all the exciting plans coming in the nearby future. \nJoin the Little Village Chamber of Commerce today! \nTuesday\, August 13\, 2024\nLa Justicia Restaurant\n3901 W 26th St\, Chicago\, IL 60623
URL:https://littlevillagechamber.org/es/calendar/lvcc-membership-meeting-august-2-2/
LOCATION:Wintrust Bank\, 3354 W 26th Street\, Chicago\, 60623
ORGANIZER;CN="Sarai Guerrero":MAILTO:Sarai@littlevillagechmaber.org
END:VEVENT
BEGIN:VEVENT
DTSTART;TZID=America/Chicago:20240820T090000
DTEND;TZID=America/Chicago:20240820T100000
DTSTAMP:20260421T130703
CREATED:20231206T220642Z
LAST-MODIFIED:20240826T153307Z
UID:10000181-1724144400-1724148000@littlevillagechamber.org
SUMMARY:Aug. SSA #25 Meeting 2024
DESCRIPTION:SSA #25 Commission Meeting\nAugust 20\, 2024\nNuevo Leon Restaurant\n3657 W. 26th Street\nChicago\, IL 60623\n9:00 AM
URL:https://littlevillagechamber.org/es/calendar/aug-ssa-25-meeting-2024/
LOCATION:Nuevo Leon Restaurant\, 3657 W 26th St\, Chicago\, IL\, 60623\, United States
CATEGORIES:SSA #25 Meeting 2024
END:VEVENT
END:VCALENDAR