BEGIN:VCALENDAR
VERSION:2.0
PRODID:-//Little Village Chamber of Commerce - ECPv6.15.17//NONSGML v1.0//EN
CALSCALE:GREGORIAN
METHOD:PUBLISH
X-WR-CALNAME:Little Village Chamber of Commerce
X-ORIGINAL-URL:https://littlevillagechamber.org/es
X-WR-CALDESC:Eventos para Little Village Chamber of Commerce
REFRESH-INTERVAL;VALUE=DURATION:PT1H
X-Robots-Tag:noindex
X-PUBLISHED-TTL:PT1H
BEGIN:VTIMEZONE
TZID:America/Chicago
BEGIN:DAYLIGHT
TZOFFSETFROM:-0600
TZOFFSETTO:-0500
TZNAME:CDT
DTSTART:20230312T080000
END:DAYLIGHT
BEGIN:STANDARD
TZOFFSETFROM:-0500
TZOFFSETTO:-0600
TZNAME:CST
DTSTART:20231105T070000
END:STANDARD
BEGIN:DAYLIGHT
TZOFFSETFROM:-0600
TZOFFSETTO:-0500
TZNAME:CDT
DTSTART:20240310T080000
END:DAYLIGHT
BEGIN:STANDARD
TZOFFSETFROM:-0500
TZOFFSETTO:-0600
TZNAME:CST
DTSTART:20241103T070000
END:STANDARD
BEGIN:DAYLIGHT
TZOFFSETFROM:-0600
TZOFFSETTO:-0500
TZNAME:CDT
DTSTART:20250309T080000
END:DAYLIGHT
BEGIN:STANDARD
TZOFFSETFROM:-0500
TZOFFSETTO:-0600
TZNAME:CST
DTSTART:20251102T070000
END:STANDARD
END:VTIMEZONE
BEGIN:VEVENT
DTSTART;TZID=America/Chicago:20240501T120000
DTEND;TZID=America/Chicago:20240501T130000
DTSTAMP:20260421T091947
CREATED:20240325T174951Z
LAST-MODIFIED:20240325T175222Z
UID:10000199-1714564800-1714568400@littlevillagechamber.org
SUMMARY:Wednesday Workshops: Serna Legal Services\, Commercial Lease Agreements
DESCRIPTION:Join us as Noeli Serna from Serna Legal Services will present an informative workshop on Commercial Lease Agreements. \nSerna Legal Services strives to provide skilled\, diligent and ethical corporate legal services in English and Spanish to businesses and entrepreneurs.
URL:https://littlevillagechamber.org/es/calendar/neighborhood-opportunity-fund-workshop-4/
LOCATION:Serna Legal Services\, 3960 West 26th St\, Chicago\, 60623
CATEGORIES:Small Business Week
END:VEVENT
BEGIN:VEVENT
DTSTART;TZID=America/Chicago:20240501T140000
DTEND;TZID=America/Chicago:20240501T150000
DTSTAMP:20260421T091947
CREATED:20240325T175256Z
LAST-MODIFIED:20240325T175710Z
UID:10000201-1714572000-1714575600@littlevillagechamber.org
SUMMARY:Marketing ROX- Utilizando las redes sociales para promover su negocio
DESCRIPTION:Roxy Delgado de Marketing Rox presentará el taller informativo sobre Redes Social. \nDesde pequeñas empresas hasta corporaciones\, entender cómo utilizar las redes sociales puede marcar la diferencia en la visibilidad\, el compromiso y el crecimiento de su negocio. E \nn este taller exploraremos las últimas tendencias y herramientas que le pueden ayudar a sobresalir en un mercado cada vez más competitivo.
URL:https://littlevillagechamber.org/es/calendar/neighborhood-opportunity-fund-workshop-5/
LOCATION:Marketing Rox\, 3010 S. Kedzie Ave.\, Chicago\, 60623
CATEGORIES:Small Business Week
ORGANIZER;CN="Sarai Guerrero":MAILTO:Sarai@littlevillagechmaber.org
END:VEVENT
BEGIN:VEVENT
DTSTART;TZID=America/Chicago:20240501T163000
DTEND;TZID=America/Chicago:20240501T193000
DTSTAMP:20260421T091947
CREATED:20240423T170125Z
LAST-MODIFIED:20240423T170153Z
UID:10000212-1714581000-1714591800@littlevillagechamber.org
SUMMARY:CIBC Merchant Walk/Small Business Mixer
DESCRIPTION:Join us for the CIBC Merchant Walk. The Merchant Walk will walk down the 26th Street Corridor and include stops to local small businesses where attendees will explore and get to hear from business owners\, from the corridor\, on their businesses and its history.\n\nFollowing the walk\, CIBC will host a networking mixer.\nThis event is free!
URL:https://littlevillagechamber.org/es/calendar/cibc-merchant-walk-small-business-mixer/
LOCATION:Via Zoom\, Chicago\, IL\, United States
END:VEVENT
BEGIN:VEVENT
DTSTART;TZID=America/Chicago:20240502T070000
DTEND;TZID=America/Chicago:20240502T090000
DTSTAMP:20260421T091947
CREATED:20240325T175756Z
LAST-MODIFIED:20240325T180104Z
UID:10000202-1714633200-1714640400@littlevillagechamber.org
SUMMARY:Breakfast - Panel Discussion - Chase Bank - El Siguiente Nivel de su Negocio
DESCRIPTION:Join us as Alejandra Faro\, business advisor from Chase Bank will present an informative bilingual workshop on leveling up your business.
URL:https://littlevillagechamber.org/es/calendar/neighborhood-opportunity-fund-workshop-6/
LOCATION:Chase Bank\, 3331 W. 26th St.\, Chicago\, 60623
CATEGORIES:Small Business Week
END:VEVENT
BEGIN:VEVENT
DTSTART;TZID=America/Chicago:20240503T130000
DTEND;TZID=America/Chicago:20240503T140000
DTSTAMP:20260421T091947
CREATED:20240325T180140Z
LAST-MODIFIED:20240423T163740Z
UID:10000203-1714741200-1714744800@littlevillagechamber.org
SUMMARY:Lunch & Learn - PTO & Paid Sick Leave Ordinance with DYKEMA
DESCRIPTION:Join us as Abad Lopez Dykema will inform small business owners on the new PTO & Paid Sick Leave Ordinance.
URL:https://littlevillagechamber.org/es/calendar/neighborhood-opportunity-fund-workshop-7/
LOCATION:Dykema & Gossett LLC\, 3141 W. 26th St\, Chicago\, IL\, 60623\, United States
CATEGORIES:Small Business Week
END:VEVENT
BEGIN:VEVENT
DTSTART;TZID=America/Chicago:20240521T090000
DTEND;TZID=America/Chicago:20240521T100000
DTSTAMP:20260421T091947
CREATED:20231206T211606Z
LAST-MODIFIED:20250106T221538Z
UID:10000178-1716282000-1716285600@littlevillagechamber.org
SUMMARY:May. SSA #25 Meeting 2024
DESCRIPTION:SSA #25 Commission Meeting\nMay 21\, 2024\nLa Justicia\n3901 W. 26th Street\nChicago\, IL 60623\n9:00 AM
URL:https://littlevillagechamber.org/es/calendar/may-ssa-25-meeting-2024/
LOCATION:La Justicia\, 3901 W. 26th Street\, Chicago\, IL\, 60623\, United States
CATEGORIES:SSA #25 Meeting 2024
END:VEVENT
END:VCALENDAR