BEGIN:VCALENDAR
VERSION:2.0
PRODID:-//Little Village Chamber of Commerce - ECPv6.15.17//NONSGML v1.0//EN
CALSCALE:GREGORIAN
METHOD:PUBLISH
X-WR-CALNAME:Little Village Chamber of Commerce
X-ORIGINAL-URL:https://littlevillagechamber.org/es
X-WR-CALDESC:Eventos para Little Village Chamber of Commerce
REFRESH-INTERVAL;VALUE=DURATION:PT1H
X-Robots-Tag:noindex
X-PUBLISHED-TTL:PT1H
BEGIN:VTIMEZONE
TZID:America/Chicago
BEGIN:DAYLIGHT
TZOFFSETFROM:-0600
TZOFFSETTO:-0500
TZNAME:CDT
DTSTART:20220313T080000
END:DAYLIGHT
BEGIN:STANDARD
TZOFFSETFROM:-0500
TZOFFSETTO:-0600
TZNAME:CST
DTSTART:20221106T070000
END:STANDARD
BEGIN:DAYLIGHT
TZOFFSETFROM:-0600
TZOFFSETTO:-0500
TZNAME:CDT
DTSTART:20230312T080000
END:DAYLIGHT
BEGIN:STANDARD
TZOFFSETFROM:-0500
TZOFFSETTO:-0600
TZNAME:CST
DTSTART:20231105T070000
END:STANDARD
BEGIN:DAYLIGHT
TZOFFSETFROM:-0600
TZOFFSETTO:-0500
TZNAME:CDT
DTSTART:20240310T080000
END:DAYLIGHT
BEGIN:STANDARD
TZOFFSETFROM:-0500
TZOFFSETTO:-0600
TZNAME:CST
DTSTART:20241103T070000
END:STANDARD
END:VTIMEZONE
BEGIN:VEVENT
DTSTART;TZID=America/Chicago:20230815T080000
DTEND;TZID=America/Chicago:20230815T170000
DTSTAMP:20260422T182207
CREATED:20230815T234323Z
LAST-MODIFIED:20230816T004318Z
UID:10000172-1692086400-1692118800@littlevillagechamber.org
SUMMARY:Aug SSA #25 Meeting 2023
DESCRIPTION:SSA #25 Commission Meeting\nAugust 15\,2023\nCIBC Bank\n3010 S Kedzie Avenue\n9:00AM
URL:https://littlevillagechamber.org/es/calendar/apr-ssa-25-meeting-2023/
LOCATION:Via Zoom\, Chicago\, IL\, United States
CATEGORIES:SSA #25 Meeting 2023
END:VEVENT
BEGIN:VEVENT
DTSTART;TZID=America/Chicago:20230815T090000
DTEND;TZID=America/Chicago:20230815T100000
DTSTAMP:20260422T182207
CREATED:20230729T171509Z
LAST-MODIFIED:20230815T161509Z
UID:10000171-1692090000-1692093600@littlevillagechamber.org
SUMMARY:SSA #25 Commisison Meeting
DESCRIPTION:8.15.23 SSA 25 Meeting Agenda8.15.23 \n SSA 25 Meeting Minutes
URL:https://littlevillagechamber.org/es/calendar/ssa-25-commisison-meeting/
LOCATION:CIBC Bank 3010 S Kedzie Ave.\, Chicago\, IL\, 60632\, United States
END:VEVENT
END:VCALENDAR