BEGIN:VCALENDAR
VERSION:2.0
PRODID:-//Little Village Chamber of Commerce - ECPv6.15.17//NONSGML v1.0//EN
CALSCALE:GREGORIAN
METHOD:PUBLISH
X-WR-CALNAME:Little Village Chamber of Commerce
X-ORIGINAL-URL:https://littlevillagechamber.org/es
X-WR-CALDESC:Eventos para Little Village Chamber of Commerce
REFRESH-INTERVAL;VALUE=DURATION:PT1H
X-Robots-Tag:noindex
X-PUBLISHED-TTL:PT1H
BEGIN:VTIMEZONE
TZID:America/Chicago
BEGIN:DAYLIGHT
TZOFFSETFROM:-0600
TZOFFSETTO:-0500
TZNAME:CDT
DTSTART:20220313T080000
END:DAYLIGHT
BEGIN:STANDARD
TZOFFSETFROM:-0500
TZOFFSETTO:-0600
TZNAME:CST
DTSTART:20221106T070000
END:STANDARD
BEGIN:DAYLIGHT
TZOFFSETFROM:-0600
TZOFFSETTO:-0500
TZNAME:CDT
DTSTART:20230312T080000
END:DAYLIGHT
BEGIN:STANDARD
TZOFFSETFROM:-0500
TZOFFSETTO:-0600
TZNAME:CST
DTSTART:20231105T070000
END:STANDARD
BEGIN:DAYLIGHT
TZOFFSETFROM:-0600
TZOFFSETTO:-0500
TZNAME:CDT
DTSTART:20240310T080000
END:DAYLIGHT
BEGIN:STANDARD
TZOFFSETFROM:-0500
TZOFFSETTO:-0600
TZNAME:CST
DTSTART:20241103T070000
END:STANDARD
END:VTIMEZONE
BEGIN:VEVENT
DTSTART;TZID=America/Chicago:20230707T090000
DTEND;TZID=America/Chicago:20230707T100000
DTSTAMP:20260423T031950
CREATED:20230109T020601Z
LAST-MODIFIED:20230816T004611Z
UID:10000103-1688720400-1688724000@littlevillagechamber.org
SUMMARY:Jul. SSA #25 Meeting 2023
DESCRIPTION:SSA #25 Commission Meeting\nJuly 7\,2023\nNuevo Leon Restaurant\n3657 W 26th Street\n9:00AM
URL:https://littlevillagechamber.org/es/calendar/july-ssa-meeting-2023/
LOCATION:Nuevo Leon Restaurant\, 3657 W 26th St\, Chicago\, IL\, 60623\, United States
CATEGORIES:SSA #25 Meeting 2023
END:VEVENT
BEGIN:VEVENT
DTSTART;TZID=America/Chicago:20230720T110000
DTEND;TZID=America/Chicago:20230720T160000
DTSTAMP:20260423T031950
CREATED:20230628T185048Z
LAST-MODIFIED:20231031T170925Z
UID:10000170-1689850800-1689868800@littlevillagechamber.org
SUMMARY:LVCC ANNUAL MEMBERSHIP BBQ
DESCRIPTION:Join us on Thursday\, July 20\, 2023 for our Annual Membership BBQ!\n\nAs a valued LVCC member\, we invite you to enjoy the day with us!\nIf you are not an LVCC member\, we still want to extend the invitation for you to meet and connect with other members and possibly join the chamber!\n\nTickets to attend the event as non-members are $25.00\nOpportunities to have space to promote your organization or business are available.\n\nRSVP by July 12th.\n\nThe LVCC team looks forward to hosting you.\nFor any additional questions\, please feel free to reach out to info@littlevillagechamber.org
URL:https://littlevillagechamber.org/es/calendar/lvcc-annual-membership-bbq/
LOCATION:Via Zoom\, Chicago\, IL\, United States
ATTACH;FMTTYPE=image/png:https://littlevillagechamber.org/wp-content/uploads/BBQ-Flyer_July-20-1.png
END:VEVENT
END:VCALENDAR