BEGIN:VCALENDAR
VERSION:2.0
PRODID:-//Little Village Chamber of Commerce - ECPv6.15.17//NONSGML v1.0//EN
CALSCALE:GREGORIAN
METHOD:PUBLISH
X-WR-CALNAME:Little Village Chamber of Commerce
X-ORIGINAL-URL:https://littlevillagechamber.org/es
X-WR-CALDESC:Eventos para Little Village Chamber of Commerce
REFRESH-INTERVAL;VALUE=DURATION:PT1H
X-Robots-Tag:noindex
X-PUBLISHED-TTL:PT1H
BEGIN:VTIMEZONE
TZID:America/Chicago
BEGIN:DAYLIGHT
TZOFFSETFROM:-0600
TZOFFSETTO:-0500
TZNAME:CDT
DTSTART:20220313T080000
END:DAYLIGHT
BEGIN:STANDARD
TZOFFSETFROM:-0500
TZOFFSETTO:-0600
TZNAME:CST
DTSTART:20221106T070000
END:STANDARD
BEGIN:DAYLIGHT
TZOFFSETFROM:-0600
TZOFFSETTO:-0500
TZNAME:CDT
DTSTART:20230312T080000
END:DAYLIGHT
BEGIN:STANDARD
TZOFFSETFROM:-0500
TZOFFSETTO:-0600
TZNAME:CST
DTSTART:20231105T070000
END:STANDARD
BEGIN:DAYLIGHT
TZOFFSETFROM:-0600
TZOFFSETTO:-0500
TZNAME:CDT
DTSTART:20240310T080000
END:DAYLIGHT
BEGIN:STANDARD
TZOFFSETFROM:-0500
TZOFFSETTO:-0600
TZNAME:CST
DTSTART:20241103T070000
END:STANDARD
END:VTIMEZONE
BEGIN:VEVENT
DTSTART;TZID=America/Chicago:20230221T090000
DTEND;TZID=America/Chicago:20230221T100000
DTSTAMP:20260423T034858
CREATED:20230109T020225Z
LAST-MODIFIED:20230406T003549Z
UID:10000098-1676970000-1676973600@littlevillagechamber.org
SUMMARY:Feb. SSA #25 Meeting 2023
DESCRIPTION:https://us02web.zoom.us/j/82814482039?pwd=ZW5MbzFlN044S203aDFpejREMXRCQT09 \nMeeting ID: 828 1448 2039\nPasscode: 987816
URL:https://littlevillagechamber.org/es/calendar/february-ssa-meeting-2023/
LOCATION:Via Zoom\, Chicago\, IL\, United States
CATEGORIES:SSA #25 Meeting 2023
END:VEVENT
END:VCALENDAR