BEGIN:VCALENDAR
VERSION:2.0
PRODID:-//Little Village Chamber of Commerce - ECPv6.15.17//NONSGML v1.0//EN
CALSCALE:GREGORIAN
METHOD:PUBLISH
X-WR-CALNAME:Little Village Chamber of Commerce
X-ORIGINAL-URL:https://littlevillagechamber.org/es
X-WR-CALDESC:Eventos para Little Village Chamber of Commerce
REFRESH-INTERVAL;VALUE=DURATION:PT1H
X-Robots-Tag:noindex
X-PUBLISHED-TTL:PT1H
BEGIN:VTIMEZONE
TZID:America/Chicago
BEGIN:DAYLIGHT
TZOFFSETFROM:-0600
TZOFFSETTO:-0500
TZNAME:CDT
DTSTART:20210314T080000
END:DAYLIGHT
BEGIN:STANDARD
TZOFFSETFROM:-0500
TZOFFSETTO:-0600
TZNAME:CST
DTSTART:20211107T070000
END:STANDARD
BEGIN:DAYLIGHT
TZOFFSETFROM:-0600
TZOFFSETTO:-0500
TZNAME:CDT
DTSTART:20220313T080000
END:DAYLIGHT
BEGIN:STANDARD
TZOFFSETFROM:-0500
TZOFFSETTO:-0600
TZNAME:CST
DTSTART:20221106T070000
END:STANDARD
BEGIN:DAYLIGHT
TZOFFSETFROM:-0600
TZOFFSETTO:-0500
TZNAME:CDT
DTSTART:20230312T080000
END:DAYLIGHT
BEGIN:STANDARD
TZOFFSETFROM:-0500
TZOFFSETTO:-0600
TZNAME:CST
DTSTART:20231105T070000
END:STANDARD
END:VTIMEZONE
BEGIN:VEVENT
DTSTART;TZID=America/Chicago:20220608T090000
DTEND;TZID=America/Chicago:20220608T100000
DTSTAMP:20260425T232235
CREATED:20220107T014107Z
LAST-MODIFIED:20230406T005519Z
UID:10000158-1654678800-1654682400@littlevillagechamber.org
SUMMARY:Jun. SSA #25 Meeting 2022
DESCRIPTION:https://us02web.zoom.us/j/87077702834?pwd=dVNSRDFBMFV5UEsvazgrUlBXM2k3dz09 \nMeeting ID: 870 7770 2834\nPasscode: 443109\n312-626-6799 US (Chicago)
URL:https://littlevillagechamber.org/es/calendar/june-ssa-meeting-2022/
LOCATION:Via Zoom\, Chicago\, IL\, United States
CATEGORIES:SSA #25 Meeting 2022
END:VEVENT
END:VCALENDAR