BEGIN:VCALENDAR
VERSION:2.0
PRODID:-//Little Village Chamber of Commerce - ECPv6.15.17//NONSGML v1.0//EN
CALSCALE:GREGORIAN
METHOD:PUBLISH
X-ORIGINAL-URL:https://littlevillagechamber.org
X-WR-CALDESC:Events for Little Village Chamber of Commerce
REFRESH-INTERVAL;VALUE=DURATION:PT1H
X-Robots-Tag:noindex
X-PUBLISHED-TTL:PT1H
BEGIN:VTIMEZONE
TZID:America/Chicago
BEGIN:DAYLIGHT
TZOFFSETFROM:-0600
TZOFFSETTO:-0500
TZNAME:CDT
DTSTART:20200308T080000
END:DAYLIGHT
BEGIN:STANDARD
TZOFFSETFROM:-0500
TZOFFSETTO:-0600
TZNAME:CST
DTSTART:20201101T070000
END:STANDARD
BEGIN:DAYLIGHT
TZOFFSETFROM:-0600
TZOFFSETTO:-0500
TZNAME:CDT
DTSTART:20210314T080000
END:DAYLIGHT
BEGIN:STANDARD
TZOFFSETFROM:-0500
TZOFFSETTO:-0600
TZNAME:CST
DTSTART:20211107T070000
END:STANDARD
BEGIN:DAYLIGHT
TZOFFSETFROM:-0600
TZOFFSETTO:-0500
TZNAME:CDT
DTSTART:20220313T080000
END:DAYLIGHT
BEGIN:STANDARD
TZOFFSETFROM:-0500
TZOFFSETTO:-0600
TZNAME:CST
DTSTART:20221106T070000
END:STANDARD
END:VTIMEZONE
BEGIN:VEVENT
DTSTART;TZID=America/Chicago:20211214T090000
DTEND;TZID=America/Chicago:20211214T100000
DTSTAMP:20260420T162339
CREATED:20210108T204243Z
LAST-MODIFIED:20230406T011410Z
UID:10000091-1639472400-1639476000@littlevillagechamber.org
SUMMARY:Dec. SSA #25 Meeting 2021
DESCRIPTION:Join Zoom Meeting\nhttps://us02web.zoom.us/j/82207791689?pwd=U1M3eFBxTWJQcCsxcVAvTlJKUUJOQT09 \nMeeting ID: 822 0779 1689\nPasscode: 032789\nOne tap mobile\n+13126266799\,\,82207791689#\,\,\,\,*032789# US (Chicago) \nMeeting Recording:\nhttps://us02web.zoom.us/rec/share/f4j8jKCZJ3rdJqi05qDIxo5m2t9VsZgTNvTY-dRXRsZE7FL8BOoE-uL3_aSf5cUd.DXxMe5l6o3pfxbqvAccess Passcode: !Qt7%jFh
URL:https://littlevillagechamber.org/calendar/december-ssa-meeting-2021/
LOCATION:Via Zoom\, Chicago\, IL\, United States
CATEGORIES:SSA #25 Meeting 2021
END:VEVENT
BEGIN:VEVENT
DTSTART;TZID=America/Chicago:20211116T090000
DTEND;TZID=America/Chicago:20211116T100000
DTSTAMP:20260420T162339
CREATED:20210108T204152Z
LAST-MODIFIED:20230406T011311Z
UID:10000090-1637053200-1637056800@littlevillagechamber.org
SUMMARY:Nov. SSA #25 Meeting 2021
DESCRIPTION:Join Zoom Meeting\nhttps://us02web.zoom.us/j/87199439738?pwd=S0pkVVk0UVlmWGtLdlVWSytVTm52Zz09 \nMeeting ID: 871 9943 9738\nPasscode: 608170 \nDial by your location\n+1 312 626 6799 US (Chicago)\n+1 301 715 8592 US (Washington DC)\n+1 646 876 9923 US (New York) \n 
URL:https://littlevillagechamber.org/calendar/november-ssa-meeting-2021/
LOCATION:Via Zoom\, Chicago\, IL\, United States
CATEGORIES:SSA #25 Meeting 2021
END:VEVENT
BEGIN:VEVENT
DTSTART;TZID=America/Chicago:20211019T090000
DTEND;TZID=America/Chicago:20211019T100000
DTSTAMP:20260420T162339
CREATED:20210108T204113Z
LAST-MODIFIED:20230406T011220Z
UID:10000089-1634634000-1634637600@littlevillagechamber.org
SUMMARY:Oct. SSA #25 Meeting 2021
DESCRIPTION:https://us02web.zoom.us/j/81540030017?pwd=SThHREZ6eVdhQzZnUTVvNlVTWDBFdz09 \nMeeting ID: 815 4003 0017\nPasscode: 169347\nOne tap mobile\n+13126266799\,\,81540030017#\,\,\,\,*169347# US (Chicago)\n+16468769923\,\,81540030017#\,\,\,\,*169347# US (New York) \nDial by your location\n+1 312 626 6799 US (Chicago)\n+1 646 876 9923 US (New York)\n+1 301 715 8592 US (Washington DC)\n+1 669 900 6833 US (San Jose)\n+1 253 215 8782 US (Tacoma)\n+1 346 248 7799 US (Houston)\n+1 408 638 0968 US (San Jose) \nMeeting Recording:\nhttps://us02web.zoom.us/rec/share/HurzF-ONIaJtpG3rNvz615tMZ4ywnR0UZWH557QWHa7UOHasqOWGUjEoaABBcmve._IEcHuNeAZbdPR17 \nAccess Passcode: 4.5h!=S6
URL:https://littlevillagechamber.org/calendar/october-ssa-meeting-2021/
LOCATION:Via Zoom\, Chicago\, IL\, United States
CATEGORIES:SSA #25 Meeting 2021
END:VEVENT
BEGIN:VEVENT
DTSTART;TZID=America/Chicago:20210921T090000
DTEND;TZID=America/Chicago:20210921T100000
DTSTAMP:20260420T162339
CREATED:20210108T204008Z
LAST-MODIFIED:20230406T011032Z
UID:10000088-1632214800-1632218400@littlevillagechamber.org
SUMMARY:Sept. SSA #25 Meeting 2021
DESCRIPTION:Topic: SSA#25 Commission Meeting\nTime: Sep 21\, 2021 09:00 AM Central Time (US and Canada) \nJoin Zoom Meeting\nhttps://us02web.zoom.us/j/88199468001?pwd=OFdaRkRnVmpKQXVmQU8wcHllc2FEQT09 \nMeeting ID: 881 9946 8001\nPasscode: 952798 \nDial by your location\n+1 312 626 6799 US (Chicago) \n 
URL:https://littlevillagechamber.org/calendar/september-ssa-meeting-2021/
LOCATION:Via Zoom\, Chicago\, IL\, United States
CATEGORIES:SSA #25 Meeting 2021
END:VEVENT
BEGIN:VEVENT
DTSTART;TZID=America/Chicago:20210831T090000
DTEND;TZID=America/Chicago:20210831T100000
DTSTAMP:20260420T162339
CREATED:20210108T203931Z
LAST-MODIFIED:20230406T010905Z
UID:10000087-1630400400-1630404000@littlevillagechamber.org
SUMMARY:Aug. SSA #25 Meeting 2021
DESCRIPTION:Topic: SSA#25 Commission Meeting \nJoin Zoom Meeting\nhttps://us02web.zoom.us/j/83355650790?pwd=UVoveVIwdjZDRUNOTmhRQy9ETC9iUT09 \nMeeting ID: 833 5565 0790\nPasscode: 740365 \nDial by your location\n+1 312 626 6799 US (Chicago)\n+1 301 715 8592 US (Washington DC) \n 
URL:https://littlevillagechamber.org/calendar/august-ssa-meeting-2021/
LOCATION:Via Zoom\, Chicago\, IL\, United States
CATEGORIES:SSA #25 Meeting 2021
END:VEVENT
BEGIN:VEVENT
DTSTART;TZID=America/Chicago:20210713T090000
DTEND;TZID=America/Chicago:20210713T100000
DTSTAMP:20260420T162339
CREATED:20210108T203856Z
LAST-MODIFIED:20230406T010825Z
UID:10000086-1626166800-1626170400@littlevillagechamber.org
SUMMARY:Jul. SSA #25 Meeting 2021
DESCRIPTION:Join Zoom Meeting\nhttps://us02web.zoom.us/j/82314085203?pwd=Tmw3bVlUenFGbTRMd0YvRndKOVlYQT09 \nMeeting ID: 823 1408 5203\nPasscode: 262911\nOne tap mobile\n+13126266799\,\,82314085203#\,\,\,\,*262911# US (Chicago) \nMeeting Recording:\nhttps://us02web.zoom.us/rec/share/5raql2CaOTnO16PclZrc83xHxf-pOwDyC1Lxx-JV3hVx5iS8BdYhS5xsJ8IZP-Y.acod4Vn4qe7R-15IAccess Passcode: $RJ8@v@5 \n\n 
URL:https://littlevillagechamber.org/calendar/july-ssa-meeting-2021/
LOCATION:Chicago\, IL\, 60623\, United States
CATEGORIES:SSA #25 Meeting 2021
END:VEVENT
BEGIN:VEVENT
DTSTART;TZID=America/Chicago:20210615T090000
DTEND;TZID=America/Chicago:20210615T100000
DTSTAMP:20260420T162339
CREATED:20210108T203806Z
LAST-MODIFIED:20230406T010705Z
UID:10000085-1623747600-1623751200@littlevillagechamber.org
SUMMARY:Jun. SSA #25 Meeting 2021
DESCRIPTION:Join Zoom Meeting\nhttps://us02web.zoom.us/j/81867417587?pwd=NkFIMHNYb3RoSHJXeGpxbzhOQW9wZz09 \nMeeting ID: 818 6741 7587\nPasscode: 377997\nPhone # 312-626-6799 US (Chicago) \nDial by your location\n+1 312 626 6799 US (Chicago)\n+1 646 876 9923 US (New York)\n+1 301 715 8592 US (Washington DC) \n\nMeeting Recording:\nhttps://us02web.zoom.us/rec/share/BwF3EUgTyC_QI9VicrJM16qDC50f3KG8ohuIvQof1vvjtNGUZFwFP9vbj0jGBUzo.qlg0e2l3j5ZwnP97 \nAccess Passcode: Z5E??$yL \n\n 
URL:https://littlevillagechamber.org/calendar/june-ssa-meeting-2021/
LOCATION:Via Zoom\, Chicago\, IL\, United States
CATEGORIES:SSA #25 Meeting 2021
END:VEVENT
BEGIN:VEVENT
DTSTART;TZID=America/Chicago:20210518T090000
DTEND;TZID=America/Chicago:20210518T100000
DTSTAMP:20260420T162339
CREATED:20210108T203717Z
LAST-MODIFIED:20230406T010510Z
UID:10000154-1621328400-1621332000@littlevillagechamber.org
SUMMARY:May SSA #25 Meeting 2021
DESCRIPTION:Topic: SSA#25 Commission Meeting\nTime: May 18\, 2021 09:00 AM Central Time (US and Canada) \nJoin Zoom Meeting\nhttps://us02web.zoom.us/j/88453133569?pwd=dFhYeEozM2ZXQXZIS1huSFc2TUFIQT09 \nMeeting ID: 884 5313 3569\nPasscode: 212337\nOne tap mobile \nDial by your location\n+1 312 626 6799 US (Chicago)\nFind your local number: https://us02web.zoom.us/u/kewhNKHOhq \n  \nMeeting Recording:\nhttps://us02web.zoom.us/rec/share/HU4EW7U_RW94npTedNCOt3vTOMy9nsYoHKouSLS7lDtLmJ6ehLmULfbuZGN-6Rvi.nYOIJYtm7qDbCPcQ \nAccess Passcode: 3f67&g&e
URL:https://littlevillagechamber.org/calendar/may-ssa-meeting-2021/
LOCATION:Via Zoom\, Chicago\, IL\, United States
CATEGORIES:SSA #25 Meeting 2021
END:VEVENT
BEGIN:VEVENT
DTSTART;TZID=America/Chicago:20210420T090000
DTEND;TZID=America/Chicago:20210420T100000
DTSTAMP:20260420T162339
CREATED:20210108T203631Z
LAST-MODIFIED:20230406T010348Z
UID:10000153-1618909200-1618912800@littlevillagechamber.org
SUMMARY:Apr. SSA #25 Meeting 2021
DESCRIPTION:Topic: SSA#25 Commission Meeting\nTime: Apr 20\, 2021 09:00 AM Central Time (US and Canada) \nJoin Zoom Meeting\nhttps://us02web.zoom.us/j/87103076218?pwd=bkp1TElqcGRwT0dCeWQ3bXIzTExuQT09 \nMeeting ID: 871 0307 6218\nPasscode: 291693\nOne tap mobile\n+13126266799\,\,87103076218#\,\,\,\,*291693# US (Chicago) \nFind your local number: https://us02web.zoom.us/u/kcH7T1ygxp \nMeeting Recording:\nhttps://us02web.zoom.us/rec/share/hFGKqnIDRJ3solgX8E4-wXN9veDfM3Rxrr-2iWxWX_yudWOLBIwiFx_stLV8JbgP.Zvpaq_1RyZ7HeBGM \nAccess Passcode: S&MRX5y= \n 
URL:https://littlevillagechamber.org/calendar/april-ssa-meeting-2021/
LOCATION:Via Zoom\, Chicago\, IL\, United States
CATEGORIES:SSA #25 Meeting 2021
END:VEVENT
BEGIN:VEVENT
DTSTART;TZID=America/Chicago:20210316T090000
DTEND;TZID=America/Chicago:20210316T100000
DTSTAMP:20260420T162339
CREATED:20210108T203413Z
LAST-MODIFIED:20230406T010308Z
UID:10000152-1615885200-1615888800@littlevillagechamber.org
SUMMARY:Mar. SSA #25 Meeting 2021
DESCRIPTION:https://us02web.zoom.us/j/87848347325?pwd=V2ZieUtRRElzQlB4WVBHRncvKzJVUT09 \nMeeting ID: 878 4834 7325 \nPasscode: 579249 \nDial In # 312.626.6799 \nMeeting Recording:\nhttps://us02web.zoom.us/rec/share/orZo-mHbDqWj6Lc74sbL2meoJm3YpfDDAJAZomxQD0EQ2JXFxF4WpVqfSbadoksw.uk4mWW0sn9NyKRZS \nAccess Passcode: 4KZ*yt$*
URL:https://littlevillagechamber.org/calendar/march-ssa-meeting-2021/
LOCATION:Via Zoom\, Chicago\, IL\, United States
CATEGORIES:SSA #25 Meeting 2021
END:VEVENT
BEGIN:VEVENT
DTSTART;TZID=America/Chicago:20210216T180000
DTEND;TZID=America/Chicago:20210216T190000
DTSTAMP:20260420T162339
CREATED:20210108T203341Z
LAST-MODIFIED:20230406T010220Z
UID:10000151-1613498400-1613502000@littlevillagechamber.org
SUMMARY:Feb. SSA #25 Meeting 2021
DESCRIPTION:Topic: SSA #25 Commission Meeting\nTime: Feb 16\, 2021 06:00 PM Central Time (US and Canada)\n\nJoin Zoom Meeting\nhttps://us02web.zoom.us/j/82720258874?pwd=KysvQkI3MDVCTkRGQTFmTlBzNmJZdz09\n\nMeeting ID: 827 2025 8874\nPasscode: 768886\nOne tap mobile\n+13126266799\,\,82720258874#\,\,\,\,*768886# US (Chicago)\nFind your local number: https://us02web.zoom.us/u/kd8GaeBBRa\n\n\nMeeting Recording:\nhttps://us02web.zoom.us/rec/share/iM0_FAuTBz8AUsPmlhXCMSFIz94tUFL8CMuYSL-EtWxdn8mTmA0Ll3azPS0mOH06.fsvuO7KBPWSSo7p4 \nAccess Passcode: AHN$G6q3
URL:https://littlevillagechamber.org/calendar/february-ssa-meeting-2021/
LOCATION:Via Zoom\, Chicago\, IL\, United States
CATEGORIES:SSA #25 Meeting 2021
END:VEVENT
BEGIN:VEVENT
DTSTART;TZID=America/Chicago:20210119T090000
DTEND;TZID=America/Chicago:20210119T100000
DTSTAMP:20260420T162339
CREATED:20210108T202416Z
LAST-MODIFIED:20230406T010128Z
UID:10000150-1611046800-1611050400@littlevillagechamber.org
SUMMARY:Jan. SSA #25 Meeting 2021
DESCRIPTION:Topic: SSA#25 Commission Zoom Meeting\nTime: Jan 19\, 2021 09:00 AM Central Time (US and Canada) \nJoin Zoom Meeting\nhttps://us02web.zoom.us/j/87327074804?pwd=UjV0NzhwWno0SnkvSDNKaEltQk9DQT09 \nMeeting ID: 873 2707 4804\nPasscode: 443810\nOne tap mobile\n+13126266799\,\,87327074804#\,\,\,\,*443810# US (Chicago)\n+13017158592\,\,87327074804#\,\,\,\,*443810# US (Washington D.C) \nFind your local number: https://us02web.zoom.us/u/ksGUZq4L8 \nMeeting Recording: \nhttps://us02web.zoom.us/rec/share/nLEmmL54ebt1hvB2839fM9qxU0jrNk18I7VLlDJsIyqoQZCNvm4cVl6SaxC9nt4N.7du2V16tRJrrXyKM \nAccess Passcode: ae%r9PLF
URL:https://littlevillagechamber.org/calendar/january-ssa-meeting-2021/
LOCATION:Via Zoom\, Chicago\, IL\, United States
CATEGORIES:SSA #25 Meeting 2021
END:VEVENT
END:VCALENDAR